Workbook

Sheet Summary
A1: SUMMARY OF ELIGIBLE EXPENSES
A2: The below example shows how to provide a summary of the total eligible expenses for a GDSR claim. Please enter your company's details into the following format. NOTE: The total cost should match the item amount in the P&L. Feel free to edit the expenses titles to better reflect the item titles in your own P&L.
H5: For NZ On Air Assessment Only
A6: Applicant Company Name: | H6: Applicant Company Name:
A7: For the 12 months ending 31 March 2026 | H7: For the 12 months ending 31 March 2026
A8: Expenses | B8: Eligible | C8: Not Eligible | D8: Total Cost as per P&L | H8: Expenses | I8: Eligible | J8: Not Eligible | K8: Total Cost | L8: Peer Review | M8: Comments
A9: Expenses | H9: Expenses
A10: - Consulting, Legal & Accounting | B10: ='Eligible Expense Calculation'!K23 -> 1000 | D10: =SUM(B10:C10) -> 1000 | H10: - Consulting, Legal & Accounting | K10: =SUM(I10:J10) -> 0
A11: - Hosting Services | B11: ='Eligible Expense Calculation'!K31 -> 2000 | D11: =SUM(B11:C11) -> 2000 | H11: - Hosting Services | K11: =SUM(I11:J11) -> 0
A12: - Software, Subscriptions & License Fees | B12: ='Eligible Expense Calculation'!K43 -> 4000 | D12: =SUM(B12:C12) -> 4000 | H12: - Software, Subscriptions & License Fees | K12: =SUM(I12:J12) -> 0
A13: - Travel, Training, Conferences | B13: ='Eligible Expense Calculation'!K55 -> 4000 | D13: =SUM(B13:C13) -> 4000 | H13: - Travel, Training, Conferences | K13: =SUM(I13:J13) -> 0
A14: - ACC Levies | B14: ='Eligible Expense Calculation'!K62 -> 3000 | D14: =SUM(B14:C14) -> 3000 | H14: - ACC Levies | K14: =SUM(I14:J14) -> 0
A15: - Other | B15: ='Eligible Expense Calculation'!K70 -> 4300 | D15: =SUM(B15:C15) -> 4300 | H15: - Other | K15: =SUM(I15:J15) -> 0
A16: Employees | H16: Employees
A17: - Employee wages | B17: ='Employee and Contractor Calc'!J42 -> 220000 | D17: =SUM(B17:C17) -> 220000 | H17: - Employee wages | K17: =SUM(I17:J17) -> 0
A18: - Contractor wages | B18: ='Employee and Contractor Calc'!J54 -> 200000 | D18: =SUM(B18:C18) -> 200000 | H18: - Contractor wages | K18: =SUM(I18:J18) -> 0
A19: - Kiwisaver contribution | B19: ='Employee and Contractor Calc'!I65 -> 6600 | D19: =SUM(B19:C19) -> 6600 | H19: - Kiwisaver contribution | K19: =SUM(I19:J19) -> 0
A20: - Bonuses | B20: ='Employee and Contractor Calc'!I76 -> 14000 | D20: =SUM(B20:C20) -> 14000 | H20: - Bonuses | K20: =SUM(I20:J20) -> 0
A21: - Benefits | B21: ='Employee and Contractor Calc'!J87 -> 4400 | D21: =SUM(B21:C21) -> 4400 | H21: - Benefits | K21: =SUM(I21:J21) -> 0
A22: - Training | B22: ='Employee and Contractor Calc'!G97 -> 4000 | D22: =SUM(B22:C22) -> 4000 | H22: - Training | K22: =SUM(I22:J22) -> 0
A23: Depreciation | H23: Depreciation
A24: - Total Depreciation | B24: ='Depreciation '!D45 -> 1500 | D24: =SUM(B24:C24) -> 1500 | H24: - Total Depreciation | K24: =SUM(I24:J24) -> 0
A25: AL Accrual (if relevant) | H25: AL Accrual (if relevant)
A26: - Movement in AL Accrual | B26: ='Movement in AL Accrual'!I11 -> 4000 | D26: =SUM(B26:C26) -> 4000 | H26: - Movement in AL Accrual | K26: =SUM(I26:J26) -> 0
A27: Total | B27: =SUM(B9:B26) -> 472800 | D27: =SUM(D9:D24) -> 468800 | H27: Total | I27: =SUM(I9:I24) -> 0 | K27: =SUM(K9:K24) -> 0
A28: Other Funding Received | B28: ='Other Government Funding'!D13 -> 56000 | D28: =SUM(B28:C28) -> 56000 | H28: Other Funding Received | I28: ='Other Government Funding'!K13 -> 0 | K28: =SUM(I28:J28) -> 0
A29: Claim | B29: =B27-B28 -> 416800 | H29: Claim | I29: =I27-I28 -> 0
A30: Rebate | B30: 0.2 | H30: Rebate | I30: 0.2
A31: Total Payment | B31: =B29*B30 -> 83360 | H31: Total Payment | I31: =I29*I30 -> 0

Sheet Company Structure
A1: COMPANY STRUCTURE
A2: Below you'll see an example of one way to express your company's structure. Only required for companies comprising of more than one entity.
A4: GROUP COMPANY STRUCTURE
E9: Applicant LIMITED NZ TAX RESIDENT (HOLDING COMPANY)
B18: Applicant ENTERPRISES LIMITED NZ TAX RESIDENT (IP COMPANY - 100% OWNED BY Applicant) | H18: Applicant STUDIOS LIMITED NZ TAX RESIDENT (OPERATING COMPANY 100% OWNED BY Applicant)
H22: Applicant STUDIOS LIMITED WILL BE APPLYING FOR THE GDSR ON BEHALF OF THE GROUP

Sheet Project Eligibility
A1: PROJECT ELIGIBILITY
A2: Here’s an example showing how to list the videogame projects your company has worked on in the last financial year, along with whether they qualify for the GDSR. Please make sure that the titles of these projects are consistent with those used in the Game Details Template.
A5: Game Development Projects: | B5: Eligible - Yes/No: | C5: Dates Active Between:
A6: Game Title 1 | B6: Yes | C6: April 2025 to March 2026
A7: Game Title 2 | B7: Yes | C7: April 2025 to March 2026
A8: Game Title 3 | B8: Yes | C8: April 2025 to March 2026
A9: Prototypes (all) | B9: Yes | C9: April 2025 to March 2026

Sheet Profit and Loss
A1: PROFIT AND LOSS
A2: Please add your company’s P&L details below or alternatively paste your audited P&L for the GDSR period: 1 Apr 2025 - 31 March 2026

Sheet Other Government Funding
A1: OTHER GOVERNMENT FUNDING
A2: Please provide details of any government funding your company received in the last financial year (from April 1 to March 31) for work eligible under the GDSR. Include the period the funding covers and the timing of payment. NOTE: The GDSR does not apply to expenditures that were already funded by any form of public or taxpayer-funded support, including grants, subsidies or payments from government departments, agencies or bodies (such as the RDTI, grants from CODE, etc). Any such funding will be deducted from your eligible GDSR amount. This exclusion applies to public or taxpayer-funded grants, subsidies, incentives or similar forms of support. Standard commercial arrangements (such as client or vendor work with government entities) will be eligible from 2026 onward. If no funding was received, please enter "N/A" in the first row.
A10: Company | B10: Funding Source | C10: Type | D10: Value | E10: Date Funding Received | F10: Period Funding Relates to | G10: What was funding used for? | H10: Has this funding been deducted from the expenses worksheet? | I10: Assessor Notes
A11: Applicant Company | B11: IRD | C11: R&D Tax Incentive | D11: 50000 | E11: 46112 | F11: April 2025 - March 2026 | G11: Continued investment in R&D | H11: Total funding has been deducted from our GDSR claim.
A12: Applicant Company | B12: Centre of Digital Excellence | C12: CODE Travel Grant | D12: 6000 | E12: 46060 | F12: August 2024 - September 2025 | G12: Travel to Game Developers Conference 2025 | H12: Total funding has been deducted from our GDSR claim.
A13: TOTAL: | B13: Totol Funding Received | D13: =SUM(D11:D12) -> 56000

Sheet Total Expense Data
A1: TOTAL EXPENSE DATA
A2: The below sheet is a good place to upload and showcase the raw data exported from your accounting system, in the form of a CSV file for example, containing all expenses necessary to calculate your total GDSR claim. There are no specific format recommendations as it is expected to vary for each company.

Sheet Eligible Expense Calculation
A1: ELIGIBLE EXPENSE CALCULATION
A2: Please provide an extract of your expenses below, including (but not limited to) items such as consulting fees, trademark/IP costs, hosting, software subscriptions, game infrastructure and travel (e.g. for game development conferences). More information can be found in the Eligible Expenditure section of the GDSR Guidelines: www.nzonair.govt.nz/funding/game-development-sector-rebate-scheme-gdsr/ For software and software subscriptions, please specify which department or role is using each item and how it’s being used. This information is required to help NZ On Air’s assessment team better evaluate the eligibility of each expense. If reporting on a paid basis, please include the subscription period where a payment covers more than 12 months. If reporting on an incurred basis, please include the subscription period for each item so it is clear which portion falls within the eligible period. | AF2: Status:
AF3: Eligible
AF4: Ineligible
A11: Accounting Software | D11: Xero
A12: Accounting Basis (ie. incurred or paid) | D12: Incurred
A14: Consulting, Legal, and Accounting Fees
A15: Consulting fees directly related to game development are considered eligible expenditures. However, general business consulting is not eligible (refer to Eligible Expenditure listed on pages 7–8 of the GDSR Guidelines)._x000B_ Most accounting costs are ineligible, except for fees specifically related to preparing a GDSR application or GDSR audit._x000B_ Legal costs are limited to expenses for obtaining trademarks for intellectual property (including overseas registrations) and for obtaining or maintaining a classification from Te Mana Whakaatu Classification Office.
A20: Date | B20: Account* | C20: Source: Please specify Payable Invoice (for electronic invoices), Spend Money (for cash transactions) or Manual Journal (for ledger entries). | D20: Item* | E20: Status* | F20: Description:* | G20: Which department/s use this item?* | H20: How is the item used?* | I20: Debit (NZD)* | J20: Claimable %* | K20: Total Claimable* | L20: Rationale for % | M20: Comments | N20: Assessor Notes
A21: 45979 | B21: Consulting fees | C21: Payable Invoice | D21: 3D Art/Animation Consultant | E21: Eligible | F21: Game 1 | G21: Art & Animation | H21: A consultant who helped uplift Art and Animation capability. | I21: 1000 | J21: =IF(E21="Eligible",1,0) -> 1 | K21: =I21*J21 -> 1000
A22: 45979 | B22: Consulting fees | C22: Payable Invoice | D22: Business Consultant | E22: Ineligible | F22: All | G22: Executive Team | H22: A consultant who worked on improving the general operations aspects of the company. | I22: 1000 | J22: =IF(E22="Eligible",1,0) -> 0 | K22: =I22*J22 -> 0
A23: TOTAL: | B23: Consulting fees | I23: =SUM(I21:I22) -> 2000 | K23: =SUM(K21:K22) -> 1000
A25: Hosting Services
A26: General internet and data storage are considered infrastructure costs and are ineligible; hosting required to operate the game build and to support player access is eligible.
A28: Date | B28: Account* | C28: Source: Please specify Payable Invoice (for electronic invoices), Spend Money (for cash transactions) or Manual Journal (for ledger entries). | D28: Item:* Please include the subscription period for any payments covering more than 12 months (paid basis), and for all items if reporting on an incurred basis. | E28: Status* | F28: Description:* | G28: Which department/s use this item?* | H28: How is the item used?* | I28: Debit (NZD)* | J28: Claimable %* | K28: Total Claimable* | L28: Rationale for % | M28: Comments | N28: Assessor Notes
A29: 45749 | B29: Hosting Services | C29: Payable Invoice | D29: Amazon Web Services - Hosting | E29: Eligible | F29: Development / deployment of games | G29: Programming | H29: Backend infrastructure for multiplayer, asset hosting, analytics | I29: 1000 | J29: =IF(E29="Eligible",1,0) -> 1 | K29: =I29*J29 -> 1000
A30: 45902 | B30: Hosting Services | C30: Payable Invoice | D30: Amazon Web Services - Hosting | E30: Eligible | F30: Development / deployment of games | G30: Programming | H30: Backend infrastructure for multiplayer, asset hosting, analytics | I30: 1000 | J30: =IF(E30="Eligible",1,0) -> 1 | K30: =I30*J30 -> 1000
A31: TOTAL: | B31: Hosting Services | I31: =SUM(I29:I30) -> 2000 | K31: =SUM(K29:K30) -> 2000
A33: Software, Subscriptions, and License Fees
A34: This section includes expenditure on software-as-a-service (SaaS) expenses that are directly related to game development (e.g. game engines, production tools and art software). This may also include costs associated with user testing, debugging and the collection of user data. Please note: platform commissions, revenue-share fees or other royalties calculated per unit sold (such as fees charged by digital storefronts) are not eligible.
A38: Date | B38: Account* | C38: Source: Please specify Payable Invoice (for electronic invoices), Spend Money (for cash transactions) or Manual Journal (for ledger entries). | D38: Item:* Please include the subscription period for any payments covering more than 12 months (paid basis), and for all items if reporting on an incurred basis. | E38: Status* | F38: Description:* | G38: Which department/s use this item?* | H38: How is the item used?* | I38: Debit (NZD)* | J38: Claimable %* | K38: Total Claimable* | L38: Rationale for % | M38: Comments | N38: Assessor Notes
A39: 45897 | B39: Software, Subscriptions & License Fees | C39: Spend Money | D39: 8th Wall | E39: Eligible | F39: Game production software-as-a-service - Special Projects | G39: Programming | H39: Game engine | I39: 1000 | J39: =IF(E39="Eligible",1,0) -> 1 | K39: =I39*J39 -> 1000
A40: 45805 | B40: Software, Subscriptions & License Fees | C40: Payable Invoice | D40: Adobe Systems Software | E40: Eligible | F40: Game production software-as-a-service | G40: Art & Animation | H40: Art and asset creation | I40: 1000 | J40: =IF(E40="Eligible",1,0) -> 1 | K40: =I40*J40 -> 1000
A41: 45848 | B41: Software, Subscriptions & License Fees | C41: Spend Money | D41: Atlassian (12 Mar 25 - 12 Mar 27) | E41: Eligible | F41: Game production software-as-a-service | G41: Production | H41: Work tracking | I41: 1000 | J41: 1 | K41: =I41*J41 -> 1000
A42: 45768 | B42: Software, Subscriptions & License Fees | C42: Spend Money | D42: Autodesk | E42: Eligible | F42: Game production software-as-a-service | G42: Animation | H42: 3d design | I42: 1000 | J42: =IF(E42="Eligible",1,0) -> 1 | K42: =I42*J42 -> 1000
A43: TOTAL: | I43: =SUM(I39:I42) -> 4000 | K43: =SUM(K39:K42) -> 4000
A45: Travel and Conference Costs
A46: Expenditure on participation in game development conferences and event attendance, including reasonable travel costs, is eligible. However, general business travel is not eligible.
A48: Date | B48: Account* | C48: Source: Please specify Payable Invoice (for electronic invoices), Spend Money (for cash transactions) or Manual Journal (for ledger entries). | D48: Item* | E48: Status* | F48: Description:* | G48: Which department/s use this item?* | H48: How is the item used?* | I48: Debit (NZD)* | J48: Claimable %* | K48: Total Claimable* | L48: Rationale for % | M48: Comments | N48: Assessor Notes
A49: 45750 | B49: Overseas Travel | C49: Spend Money | D49: UBER TRIP | E49: Eligible | F49: Game development conference attendance - GDC | G49: Programming | H49: Transport for game conference | I49: 1000 | J49: =IF(E49="Eligible",1,0) -> 1 | K49: =I49*J49 -> 1000
A50: 45820 | B50: Overseas Travel | C50: Spend Money | D50: Car hire | E50: Ineligible | F50: Office visit | G50: Programming | H50: Transport to partner office | I50: 1000 | J50: =IF(E50="Eligible",1,0) -> 0 | K50: =I50*J50 -> 0
A51: 45831 | B51: Overseas Travel | C51: Payable Invoice | D51: Unreal Fest - Ubers | E51: Eligible | F51: Game development conference attendance - Unreal Fest 2023 | G51: Programming | H51: Transport for game conference | I51: 1000 | J51: =IF(E51="Eligible",1,0) -> 1 | K51: =I51*J51 -> 1000
A52: 45899 | B52: Travel | C52: Spend Money | D52: Accommodation for NZGDC | E52: Eligible | F52: Game development conference attendance - NZGDC | G52: Programming | H52: Accommodation for game conference | I52: 1000 | J52: =IF(E52="Eligible",1,0) -> 1 | K52: =I52*J52 -> 1000
A53: 45900 | B53: Travel | C53: Payable Invoice | D53: Air NZ Travelcard - NZGDC | E53: Eligible | F53: Game development conference attendance - NZGDC | G53: Programming | H53: Transport for game conference | I53: 1000 | J53: =IF(E53="Eligible",1,0) -> 1 | K53: =I53*J53 -> 1000
A54: 45911 | B54: Travel | C54: Spend Money | D54: PAY MY PARK - WELLINGTON Parking | E54: Ineligible | F54: Office visit | G54: Programming | H54: Parking for partner office visit | I54: 1000 | J54: =IF(E54="Eligible",1,0) -> 0 | K54: =I54*J54 -> 0
A55: TOTAL: | I55: =SUM(I49:I54) -> 6000 | K55: =SUM(K49:K54) -> 4000
A57: ACC Levies
A58: Please include a summary of total ACC levies paid during the financial year. Please note: The overall employee eligibility % will need to be applied to this total.
A60: Date | B60: Account* | C60: Source: Please specify Payable Invoice (for electronic invoices), Spend Money (for cash transactions) or Manual Journal (for ledger entries). | D60: Item* | E60: Status* | F60: Description:* | G60: Which department/s use this item?* | H60: How is the item used?* | I60: Debit (NZD)* | J60: Claimable %*: eligible % = total eligible wages / total wages | K60: Total Claimable* | L60: Rationale for % | M60: Comments | N60: Assessor Notes
A61: 45899 | B61: ACC | C61: Spend Money | D61: ACC Final Levy | E61: Eligible | G61: All | H61: / | I61: 3000 | J61: 1 | K61: =I61*J61 -> 3000
...

Sheet Total Employee Data
A1: TOTAL EMPLOYEE DATA
A2: The below sheet is a useful place to upload and showcase the raw data exported from your payroll system, possibly in the form of a CSV file, containing all payroll data necessary to calculate your total GDSR claim. There are no specific format recommendations as we would expect this to vary for each company.

Sheet Employee and Contractor Calc
A1: EMPLOYEE AND CONTRACTOR CALCULATION
A2: Below is a template for listing your eligible NZ domiciled employee and contractor expenses. Please note that all columns marked with the * symbol are required fields. For any employees who only spend a percentage of their time on eligible game development activities, please make sure to record what percentage of their time is eligible for the GDSR, as well as a rationale for the percentage listed. NZ On Air may ask for evidence of this work. Include ACC levies, Kiwisaver, bonuses, benefits and training contributions ONLY if they are part of an official employment package, as specified in each employee or contractor's contract. NZ On Air may request proof of these items in your employee or contactor's contracts. | AA2: Dropdown raw data:
AA3: Art, UX and UI
AA4: Audio
AA5: Executive Team
AA6: Game Design
A7: ELIGIBILITY DETAILS | AA7: Live Ops/Dev Ops
A8: Extract from the GDSR Design Features - Policy wording: "For clarity, specific inclusions are: Well-structured market-level remuneration packages, included in employment or contractor agreements, paid via regular payroll systems including PAYE and other taxes, to employees and independent contractors who are domiciled in New Zealand who perform work or services directly for the business that are attributable to the development of digital games and which include the following types of functions and tasks: - project management; - development, including, for example, game design, software development and programming, engineering (including for audio, graphics, physics, software and backend and servers), prototyping and product management; - writing and story designing, including, for example, narrative design, world building, character design and cultural consulting (including on te ao Māori); - production, including, for example, artistic, creative and design direction, and production; - art and design, including, for example, drawing, painting, animation, performance (for music, voice and motion capture), song writing, composing, music and sound design; - marketing and community development, including, for example, go-to-market strategy, community management, influencer engagement, social media management and content creation, user acquisition management, and localising games for specific markets/languages; - live operations of an online game, including, for example, data science, business intelligence, metrics and analytics management, playtesting and build management/deployment; - player research and game quality improvements, including, for example, user experience design and testing, behaviour analysis and quality assurance testing; - and other people performing similar tasks or functions to those listed above." | AA8: Localisation
AA9: Narrative Design
AA10: Operations (HR/Finance/Admin)
AA11: Programming
AA12: Production
AA13: Publishing, Marketing and Community
AA14: Quality Assurance
AA15: Research & Analytics
A19: Reconciliation with Payroll
A20: In the table below, you’ll find an example format for sharing your company’s payroll reconciliation output with the IRD. Please replace the sample data with your own information.
A22: Total salary accrued as at 31/3/2025 (i.e. 27/3/25 to 31/3/25 salary not paid till April 2025) | H22: =G22*$J$43 -> 0
A23: Total salary expenses during the period (as per payroll) | G23: =G42 -> 400000 | H23: =G23*$J$43 -> 220000
A24: Total salary accrued as at 31/3/2026 (i.e. 26/3/26 - 31/3/26 salary not paid till April 2026) | H24: =G24*$J$43 -> 0
A25: Total salary expenses for the period (this figure should reconcile with your P&L) | G25: =G23+G24-G22 -> 400000 | H25: =H23+H24-H22 -> 220000
A27: ELIGIBLE PAYROLL CLAIM AMOUNT | E27: =H25 -> 220000
A29: Payroll System Wages - Employees
A30: Please include a summary of total wages per employee during the financial year using the below template table. This includes information on the percentage of eligible game development work per employee and whether they are fulltime equivalent or part-time. Please also include ineligible staff that are included in your payroll to enable us to cross-reference that with the raw data in the Employee Data tab during assessment of your application.
A34: Date | B34: Employee Name: * This helps us accurately reconcile the information provided with your payroll records. | C34: Employee Role * | D34: Project/s * | E34: Level of Experience * (Please select from the dropdown) | F34: Department * (Please select closest match from the dropdown) | G34: FY 2024-2025 Wages * | H34: Eligible % * (What percentage of the employee's time is spent on eligible game development activities?) | I34: Fulltime Time Equivalent * (Is the employee fulltime or part-time?) | J34: AMOUNT ELIGIBLE FOR GDSR (calculated based on wages and eligible %) | K34: Comments | L34: Assessor Notes
A38: 46112 | C38: Intermediate Artist | D38: ALL | E38: Intermediate | F38: Art, UX and UI | G38: 100000 | H38: 1 | I38: 0.6 | J38: =G38*H38 -> 100000
A39: 46112 | C39: Senior Programmer | D39: Game 1 | E39: Senior | F39: Programming | G39: 100000 | H39: 1 | I39: 1 | J39: =G39*H39 -> 100000
A40: 46112 | C40: Finance Manager | D40: ALL | E40: Senior | F40: Operations (HR/Finance/Admin) | G40: 100000 | H40: 0 | I40: 1 | J40: =G40*H40 -> 0
A41: 46112 | C41: Chief Executive Officer | D41: ALL | E41: Senior | F41: Executive Team | G41: 100000 | H41: 0.2 | I41: 1 | J41: =G41*H41 -> 20000 | K41: The CEO dedicates 1 day/week to game design. This is tracked using time management software.
F42: TOTAL: | G42: =SUM(G38:G41) -> 400000 | H42: =SUM(H38:H41)/4 -> 0.55 | I42: =SUM(I38:I41) -> 3.6 | J42: =SUM(J38:J41) -> 220000
J43: =J42/G42 -> 0.55
A44: Contractor Wages
A45: Please include a summary of total wages per contractor during the financial year using the below template table. This includes information on the percentage of eligible game development work and whether they are fulltime equivalent or part-time. Please also include ineligible contractors that are included in your payroll to allow for cross-referencing with the raw data in the Employee Data tab during assessment of your application.
A49: Date | B49: Employee Name: * | C49: Employee Role * | D49: Project/s * | E49: Level of Experience * (Please select from dropdown) | F49: Department * (Please select closest match from the dropdown) | G49: FY 2024-2025 Wages * | H49: Eligible % * (What percentage of the employee's time is spent on eligible game development activities?) | I49: Fulltime Time Equivalent * (Is the employee fulltime or part-time?) | J49: AMOUNT ELIGIBLE FOR GDSR (calculated based on wages and eligible %) | K49: Comments | L49: Assessor Notes
A52: 46112 | C52: Senior Game Designer | D52: Game 1 | E52: Senior | F52: Game Design | G52: 100000 | H52: 1 | I52: 0.8 | J52: 100000 | K52: Based in NZ
A53: 46112 | C53: Narrative Designer | D53: Game 2 | E53: Intermediate | F53: Game Design | G53: 100000 | H53: 1 | I53: 0.8 | J53: 100000 | K53: Based in NZ
F54: TOTAL: | G54: =SUM(G52:G53) -> 200000 | I54: =SUM(I52:I53) -> 1.6 | J54: =SUM(J52:J53) -> 200000
A56: Kiwisaver employer contribution included in employee contract (including ESCT)
A57: If these transactions are not already included in your payroll data (and summary above), please use the table below to provide a summary of total KiwiSaver employer contributions paid per employee during the financial year.
A60: Date | B60: Employee Name: * | C60: Employee Role * | D60: Project/s | E60: Department | F60: Amount* | G60: Eligible %* | H60: Fulltime Time Equivalent | I60: Eligible Amount | J60: Comments | K60: Assessor Notes
...

Sheet Depreciation 
A1: DEPRECIATION
A2: The worksheet below provides an example of depreciation broken down by asset name. Where depreciation is apportioned, please explain the rationale for the portion claimed as eligible under the GDSR. All depreciated items MUST be included in the company’s depreciation schedule to be considered eligible.
A5: Depreciation Schedule Source: | B5: Xero
A7: Computer Equipment: Hardware Depreciation
A8: Please list the depreciation costs for computer equipment used in game development (as defined in the GDSR Guidelines).
A10: Item | B10: Type | C10: Project/s | D10: Depreciation Method | E10: Cost | F10: Opening Value | H10: Purchases | I10: Disposals | J10: Depreciation | K10: Closing Value | L10: Private Use Amount | M10: Eligible? | N10: Eligible Amount | O10: Assessor Notes
A11: 2 x HP Probook 15.6" laptops | B11: Computer Equip | C11: ALL | D11: Straight Line 10% | E11: 1000 | F11: 500 | H11: 0 | I11: 0 | J11: 100 | K11: 400 | L11: 0.15 | M11: 0.75 | N11: =J11*M11 -> 75
A12: 1 x MacBookPro 15.4 16GB | B12: Computer Equip | C12: ALL | D12: Straight Line 10% | E12: 1000 | F12: 500 | H12: 0 | I12: 0 | J12: 100 | K12: 400 | L12: 0.15 | M12: 0.75 | N12: =J12*M12 -> 75
A13: 2 x Samsung 24" monitors | B13: Computer Equip | C13: ALL | D13: Straight Line 10% | E13: 1000 | F13: 500 | H13: 0 | I13: 0 | J13: 100 | K13: 400 | L13: 0.15 | M13: 0.75 | N13: =J13*M13 -> 75
A14: Sandisk 240GB SSD Plus 2.5" SATA III SSD (8) | B14: Computer Equip | C14: ALL | D14: Straight Line 10% | E14: 1000 | F14: 500 | H14: 0 | I14: 0 | J14: 100 | K14: 400 | L14: 0.5 | M14: 0.5 | N14: =J14*M14 -> 50
A15: iPhone 13 Pro 128 GB | B15: Computer Equip | C15: ALL | D15: Straight Line 10% | E15: 1000 | F15: 500 | H15: 0 | I15: 0 | J15: 100 | K15: 400 | L15: 0.5 | M15: 0.5 | N15: =J15*M15 -> 50
A16: Samsung Galaxy S22 5G | B16: Computer Equip | C16: ALL | D16: Straight Line 10% | E16: 1000 | F16: 500 | H16: 0 | I16: 0 | J16: 100 | K16: 400 | L16: 0.5 | M16: 0.5 | N16: =J16*M16 -> 50
A17: Total: | E17: =SUM(E11:E16) -> 6000 | F17: =SUM(F11:F16) -> 3000 | H17: =SUM(H11:H16) -> 0 | I17: =SUM(I11:I16) -> 0 | J17: =SUM(J11:J16) -> 600 | K17: =SUM(K11:K16) -> 2400 | N17: =SUM(N11:N16) -> 375
A19: Computer Equipment: Software Depreciation
A20: Please list the depreciation costs for software used in game development (as defined in the GDSR Guidelines).
A22: Item | B22: Type | C22: Project/s | D22: Depreciation Method | E22: Cost | F22: Opening Value | H22: Purchases | I22: Disposals | J22: Depreciation | K22: Closing Value | L22: Private Use Amount | M22: Eligible? | N22: Eligible Amount | O22: Assessor Notes
A23: Unity Game Engine | B23: Software | C23: Game 1 | D23: Straight Line 10% | E23: 1000 | F23: 500 | H23: 0 | I23: 0 | J23: 100 | K23: 400 | L23: 0 | M23: 1 | N23: =J23*M23 -> 100
A24: Game engine platform - New Game 24 | B24: Software | C24: Game 2 | D24: Straight Line 10% | E24: 1000 | F24: 500 | H24: 0 | I24: 0 | J24: 100 | K24: 400 | L24: 0 | M24: 1 | N24: =J24*M24 -> 100
A25: Total: | E25: =SUM(E23:E24) -> 2000 | F25: =SUM(F23:F24) -> 1000 | H25: =SUM(H23:H24) -> 0 | I25: =SUM(I23:I24) -> 0 | J25: =SUM(J23:J24) -> 200 | K25: =SUM(K23:K24) -> 800 | N25: =SUM(N23:N24) -> 200
A27: Low Value Assets (<$1,000): Depreciation
A28: For items under $1,000, please list the depreciation costs for software and hardware used in game development (as defined in the GDSR Guidelines). To be eligible, low-value assets must be depreciated and included in the company’s depreciation schedule.
A30: Item | B30: Type | C30: Project/s | D30: Depreciation Method | E30: Cost | F30: Opening Value | H30: Purchases | I30: Disposals | J30: Depreciation | K30: Closing Value | L30: Private Use Amount | M30: Eligible? | N30: Eligible Amount | O30: Assessor Notes
A31: PB Technologies Ltd - cable | B31: Computer Equip | C31: ALL | D31: Straight Line 10% | E31: 50 | F31: 50 | H31: 0 | I31: 0 | J31: 50 | K31: 0 | L31: 0 | M31: 1 | N31: =J31*M31 -> 50
A32: Logitech MX Ergo Mouse, Wireless, Black, Tilt Stand | B32: Computer Equip | C32: ALL | D32: Straight Line 10% | E32: 100 | F32: 100 | H32: 0 | I32: 0 | J32: 100 | K32: 0 | L32: 0 | M32: 1 | N32: =J32*M32 -> 100
A33: Unitek Ultrapro HDMI 2.1 Active Optical HDMI Cable, 5m | B33: Computer Equip | C33: ALL | D33: Straight Line 10% | E33: 100 | F33: 100 | H33: 0 | I33: 0 | J33: 100 | K33: 0 | L33: 0 | M33: 1 | N33: =J33*M33 -> 100
A34: Apple Magic Keyboard with Numeric Keypad - US English, Wireless, Bluetooth | B34: Computer Equip | C34: ALL | D34: Straight Line 10% | E34: 200 | F34: 200 | H34: 0 | I34: 0 | J34: 200 | K34: 0 | L34: 0 | M34: 1 | N34: =J34*M34 -> 200
A35: 6x HP Cloud Stinger 2 Core, Gaming Headset, Binaural, Black | B35: Computer Equip | C35: ALL | D35: Straight Line 10% | E35: 400 | F35: 400 | H35: 0 | I35: 0 | J35: 400 | K35: 0 | L35: 0 | M35: 1 | N35: =J35*M35 -> 400
A36: Deepcool GAMMAXX 400 XT CPU Cooler | B36: Computer Equip | C36: ALL | D36: Straight Line 10% | E36: 75 | F36: 75 | H36: 0 | I36: 0 | J36: 75 | K36: 0 | L36: 0 | M36: 1 | N36: =J36*M36 -> 75
A37: Total: | E37: =SUM(E31:E36) -> 925 | F37: =SUM(F31:F36) -> 925 | H37: =SUM(H31:H36) -> 0 | I37: =SUM(I31:I36) -> 0 | J37: =SUM(J31:J36) -> 925 | K37: =SUM(K31:K36) -> 0 | N37: =SUM(N31:N36) -> 925
A39: Example of Depreciation: Broken down by account
A40: Account | B40: DEPR | C40: ELIGIBILITY % | D40: ELIGIBLE AMOUNT | E40: RATIONALE | F40: Assessor Notes
B41: 1 Apr 2024 - 31 Mar 2025
A42: Computer Equipment Hardware - Depreciation | B42: =J17 -> 600 | C42: 0.625 | D42: =B42*C42 -> 375 | E42: Relating to Game Development
A43: Computer Equipment Software - Depreciation | B43: =J25 -> 200 | C43: 1 | D43: =B43*C43 -> 200 | E43: Relating to Game Development
A44: Low Value Assets - Depreciation | B44: =J37 -> 925 | C44: 1 | D44: =B44*C44 -> 925 | E44: Relating to Game Development
A45: Grand Total | B45: =SUM(B42:B44) -> 1725 | D45: =SUM(D42:D44) -> 1500

Sheet Movement in AL Accrual
A1: MOVEMENT IN EMPLOYEE ANNUAL LEAVE ACCRUAL
A2: This section is only required if your financial accounts record annual leave accrual separately to salary expenses. Please enter the movement in annual leave per employee, which must reconcile to your payroll report or general ledger account for annual leave accrual movements during the GDSR period (1 April 2025 – 31 March 2026).
A6: GDSR Period | B6: Employee Name * | C6: Employee Role * | D6: Annual Leave Balance in $ as at 1/4/2025 | E6: Annual Leave Earned During the Period in $ | F6: Annual Leave Taken During the Period in $ | G6: Annual leave balance at 31/3/2026 in $ (the total amount should agreed to P&L annual leave accrual) | H6: Eligible % * (What percentage of the employee's time is spent on eligible game development activities?) | I6: Amount Eligible for the GDSR (calculated based on wages and eligible %) | J6: Comments | K6: Assessor Notes
A7: 1/4/2025 - 31/3/2026 | C7: Intermediate Artist | D7: 5000 | E7: 8000 | F7: 11000 | G7: =D7+E7-F7 -> 2000 | H7: 1 | I7: =G7*H7 -> 2000
A8: 1/4/2025 - 31/3/2026 | C8: Senior Programmer | D8: 0 | E8: 2000 | F8: 0 | G8: =D8+E8-F8 -> 2000 | H8: 1 | I8: =G8*H8 -> 2000
A9: 1/4/2025 - 31/3/2026 | C9: Finance Manager | D9: 5000 | E9: 5000 | F9: 7000 | G9: =D9+E9-F9 -> 3000 | H9: 0 | I9: =G9*H9 -> 0
A10: 1/4/2025 - 31/3/2026 | C10: Chief Executive Officer | D10: 3000 | E10: 8000 | F10: 11000 | G10: =D10+E10-F10 -> 0 | H10: 0.2 | I10: =G10*H10 -> 0 | J10: The CEO dedicates one day/week to game design. This is tracked using time management software.
D11: =SUM(D7:D10) -> 13000 | E11: =SUM(E7:E10) -> 23000 | F11: =SUM(F7:F10) -> 29000 | G11: =D11+E11-F11 -> 7000 | H11: =SUM(H7:H10)/4 -> 0.55 | I11: =SUM(I7:I10) -> 4000
